BEGIN:VCALENDAR
VERSION:2.0
PRODID:-//eventon.com NONSGML v1.0//EN
CALSCALE:GREGORIAN
METHOD:PUBLISH
BEGIN:VEVENT
UID:69e9dcc743e8a
DTSTAMP:20260423T084807Z
DTSTART:20150930
DTEND:20151001
LOCATION:M&amp;M Sporting Clays 2 winslow Road\,  Pennsville \,  NJ
SUMMARY:Private Instruction with Anthony
DESCRIPTION:Anthony will be giving private instruction at M&amp;M Sporting 
 Clays on this date.  Contact Anthony to schedule your appointment. &nbsp; 
 anthony@clayshootinginstruction.com &nbsp;\nhttps://clayshootinginstruction
 .com/events/private-instruction-with-anthony-2/
URL:https://clayshootinginstruction.com/events/private-instruction-with-anthony-2/
END:VEVENT
END:VCALENDAR